BEGIN:VCALENDAR
VERSION:2.0
PRODID:-//hacksw/handcal//NONSGML v1.0//EN
BEGIN:VEVENT
SUMMARY:sejour Rechastel Ubaye - animateur Michel F
UID:1eb13cf3-a8b4-42e4-a5bd-76d9c62bd2f6
DTSTART:20261013T220000Z
DTEND:20261016T220000Z
LOCATION:Localisation   
CATEGORIES:Sportif
STATUS:
URL;VALUE=URI:https://www.randonneurshyerois.fr/evenements/2026/10/14/sejour-rechastel-ubaye-animateur-michel-f-2443860
END:VEVENT
END:VCALENDAR
