BEGIN:VCALENDAR
VERSION:2.0
PRODID:-//hacksw/handcal//NONSGML v1.0//EN
BEGIN:VEVENT
SUMMARY:Marche nordique previsionnelle
UID:0270d8e8-5362-4452-be5f-edf3c5ec7fba
DTSTART:20260608T063000Z
DTEND:20260608T220000Z
LOCATION:Localisation   
CATEGORIES:Sportif
STATUS:
DESCRIPTION:<p>Marche nordique seance previsionnelle : invitations la
 veille pour deux seances distinctes sur un meme lieu; A : tonique,
 parcours de 9 a 10 km; B : sportive, parcours de 11 a 14 km.
 Inscription prealable par le lien internet inclus dans les mails
 d’invitation -- L'equipe animateurs marche nordique<br>
  </p>
URL;VALUE=URI:https://www.randonneurshyerois.fr/evenements/2026/06/08/marche-nordique-previsionnelle-2405372
END:VEVENT
END:VCALENDAR
