BEGIN:VCALENDAR
VERSION:2.0
PRODID:-//hacksw/handcal//NONSGML v1.0//EN
BEGIN:VEVENT
SUMMARY:reunion du comite de direction
UID:4a741ac4-81b9-4bbb-a5ed-716bd3151e31
DTSTART:20260504T150000Z
DTEND:20260504T170000Z
LOCATION:Localisation   
CATEGORIES:Administratif
STATUS:
URL;VALUE=URI:https://www.randonneurshyerois.fr/evenements/2026/05/04/reunion-du-comite-de-direction-2294620
END:VEVENT
END:VCALENDAR
