BEGIN:VCALENDAR
VERSION:2.0
PRODID:-//hacksw/handcal//NONSGML v1.0//EN
BEGIN:VEVENT
SUMMARY:rando Sante Plate a Hyeres- niveau E1 - Animateurs : Jean B.
UID:9400d371-b43d-4e52-8ff2-cd69d78c74fc
DTSTART:20260504T113000Z
DTEND:20260504T220000Z
LOCATION:Localisation   
CATEGORIES:Sportif
STATUS:
DESCRIPTION:<table border="1" style="width:400px;"
 width="514">
 	<colgroup>
 		<col style="width:55pt;"
 width="74">
 		<col style="width:330pt;"
 width="440">
 	</colgroup>
 	<tbody>
 		<tr>
 			<td class="xl69"
 style="height:20px;width:74px;text-align:center;padding-left:1px;"><span
 style="font-size:15px;"><span style="color:#000000;"><span
 style="font-weight:400;"><span style="font-style:normal;"><span
 style="text-decoration:none;"><span style="font-family:Calibri,
 sans-serif;">Depart</span></span></span></span></span></span></td>
 			<td
 class="xl67"
 style="width:440px;text-align:center;padding-left:1px;"><span
 style="font-size:16px;"><span style="color:#000000;"><span
 style="font-weight:400;"><span style="font-style:normal;"><span
 style="text-decoration:none;"><span style="font-family:Calibri,
 sans-serif;">13h30</span></span></span></span></span></span></td>
 		</tr>
 		<tr>
 			<td
 class="xl69"
 style="height:20px;text-align:center;padding-left:1px;"><span
 style="font-size:15px;"><span style="color:#000000;"><span
 style="font-weight:400;"><span style="font-style:normal;"><span
 style="text-decoration:none;"><span style="font-family:Calibri,
 sans-serif;">Voiture
 AR</span></span></span></span></span></span></td>
 			<td class="xl67"
 style="width:440px;text-align:center;padding-left:1px;"><span
 style="font-size:16px;"><span style="color:#000000;"><span
 style="font-weight:400;"><span style="font-style:normal;"><span
 style="text-decoration:none;"><span style="font-family:Calibri,
 sans-serif;">10
 km</span></span></span></span></span></span></td>
 		</tr>
 		<tr>
 			<td
 class="xl69"
 style="height:20px;text-align:center;padding-left:1px;"><span
 style="font-size:15px;"><span style="color:#000000;"><span
 style="font-weight:400;"><span style="font-style:normal;"><span
 style="text-decoration:none;"><span style="font-family:Calibri,
 sans-serif;">Activite</span></span></span></span></span></span></td>
 			<td
 class="xl67"
 style="width:440px;text-align:center;padding-left:1px;"><span
 style="font-size:16px;"><span style="color:#000000;"><span
 style="font-weight:400;"><span style="font-style:normal;"><span
 style="text-decoration:none;"><span style="font-family:Calibri,
 sans-serif;">Sante  
 Plate </span></span></span></span></span></span></td>
 		</tr>
 		<tr>
 			<td
 class="xl69"
 style="height:20px;text-align:center;padding-left:1px;"><span
 style="font-size:15px;"><span style="color:#000000;"><span
 style="font-weight:400;"><span style="font-style:normal;"><span
 style="text-decoration:none;"><span style="font-family:Calibri,
 sans-serif;">Niveau</span></span></span></span></span></span></td>
 			<td
 class="xl67"
 style="width:440px;text-align:center;padding-left:1px;"><span
 style="font-size:16px;"><span style="color:#000000;"><span
 style="font-weight:400;"><span style="font-style:normal;"><span
 style="text-decoration:none;"><span style="font-family:Calibri,
 sans-serif;">IBP 20    06 km    0
 m</span></span></span></span></span></span></td>
 		</tr>
 		<tr>
 			<td
 class="xl69"
 style="height:20px;text-align:center;padding-left:1px;"><span
 style="font-size:15px;"><span style="color:#000000;"><span
 style="font-weight:400;"><span style="font-style:normal;"><span
 style="text-decoration:none;"><span style="font-family:Calibri,
 sans-serif;">Cotation</span></span></span></span></span></span></td>
 			<td
 class="xl67"
 style="width:440px;text-align:center;padding-left:1px;"><span
 style="font-size:16px;"><span style="color:#000000;"><span
 style="font-weight:400;"><span style="font-style:normal;"><span
 style="text-decoration:none;"><span style="font-family:Calibri,
 sans-serif;">E1 T1
 R1</span></span></span></span></span></span></td>
 		</tr>
 		<tr>
 			<td
 class="xl69"
 style="height:20px;text-align:center;padding-left:1px;"><span
 style="font-size:15px;"><span style="color:#000000;"><span
 style="font-weight:400;"><span style="font-style:normal;"><span
 style="text-decoration:none;"><span style="font-family:Calibri,
 sans-serif;">Duree</span></span></span></span></span></span></td>
 			<td
 class="xl67"
 style="width:440px;text-align:center;padding-left:1px;"><span
 style="font-size:16px;"><span style="color:#000000;"><span
 style="font-weight:400;"><span style="font-style:normal;"><span
 style="text-decoration:none;"><span style="font-family:Calibri,
 sans-serif;">02h30</span></span></span></span></span></span></td>
 		</tr>
 		<tr>
 			<td
 class="xl69"
 style="height:42px;text-align:center;padding-left:1px;"><span
 style="font-size:15px;"><span style="color:#000000;"><span
 style="font-weight:400;"><span style="font-style:normal;"><span
 style="text-decoration:none;"><span style="font-family:Calibri,
 sans-serif;">Description</span></span></span></span></span></span></td>
 			<td
 class="xl68"
 style="width:440px;text-align:left;padding-left:1px;"><span
 style="font-size:16px;"><span style="color:#000000;"><span
 style="font-weight:700;"><span style="font-style:normal;"><span
 style="text-decoration:none;"><span style="font-family:Calibri,
 sans-serif;"><font><span style="font-size:12pt;"><span
 style="color:#000000;"><span style="font-weight:700;"><span
 style="font-style:normal;"><span style="text-decoration:none;"><span
 style="font-family:Calibri, sans-serif;">Hyeres :
 </span></span></span></span></span></span></font><font><span
 style="font-size:12pt;"><span style="color:#000000;"><span
 style="font-weight:400;"><span style="font-style:normal;"><span
 style="text-decoration:none;"><span style="font-family:Calibri,
 sans-serif;">du port d'Hyeres a l'Ayguade par le front de mer A/R.
 Carte 3446 OT.</span></span></span></span></span></span></font>
 <font><span style="font-size:12pt;"><span
 style="color:#000000;"><span style="font-weight:400;"><span
 style="font-style:normal;"><span style="text-decoration:none;"><span
 style="font-family:Calibri, sans-serif;">Sur
 inscription. </span></span></span></span></span></span></font></span></span></span></span></span></span></td>
 		</tr>
 	</tbody>
 </table>
URL;VALUE=URI:https://www.randonneurshyerois.fr/evenements/2026/05/04/rando-sante-plate-a-hyeres-niveau-e1-animateurs-jean-b-2419549
END:VEVENT
END:VCALENDAR
