BEGIN:VCALENDAR
VERSION:2.0
PRODID:-//hacksw/handcal//NONSGML v1.0//EN
BEGIN:VEVENT
SUMMARY:rando pedestre ANNULEE a ENTRECASTEAUX SAINT ANTONIN- niveau E3 - Animateurs : Suzanne . T       Babette . M
UID:17b78b2e-7134-4601-ac76-8a70dc3e19ff
DTSTART:20260423T060000Z
DTEND:20260423T220000Z
LOCATION:Localisation   
CATEGORIES:Sportif
STATUS:
DESCRIPTION:<table border="1" style="width:400px;"
 width="514">	<colgroup>		<col style="width:55pt;" width="74">		<col
 style="width:330pt;" width="440">	</colgroup>	<tbody>		<tr>			<td
 class="xl70"
 style="height:20px;width:74px;text-align:center;padding-left:1px;"><span
 style="font-size:15px;"><span style="color:#000000;"><span
 style="font-weight:400;"><span style="font-style:normal;"><span
 style="font-family:Calibri,
 sans-serif;"><strike>Depart</strike></span></span></span></span></span></td>			<td
 class="xl69"
 style="width:440px;text-align:center;padding-left:1px;"><span
 style="font-size:16px;"><span style="color:#000000;"><span
 style="font-weight:400;"><span style="font-style:normal;"><span
 style="font-family:Calibri,
 sans-serif;"><strike>08h00 </strike></span></span></span></span></span></td>		</tr>		<tr>			<td
 class="xl70"
 style="height:20px;text-align:center;padding-left:1px;"><span
 style="font-size:15px;"><span style="color:#000000;"><span
 style="font-weight:400;"><span style="font-style:normal;"><span
 style="font-family:Calibri, sans-serif;"><strike>Voiture
 AR</strike></span></span></span></span></span></td>			<td
 class="xl69"
 style="width:440px;text-align:center;padding-left:1px;"><span
 style="font-size:16px;"><span style="color:#000000;"><span
 style="font-weight:400;"><span style="font-style:normal;"><span
 style="font-family:Calibri, sans-serif;"><strike>140
 km</strike></span></span></span></span></span></td>		</tr>		<tr>			<td
 class="xl70"
 style="height:20px;text-align:center;padding-left:1px;"><span
 style="font-size:15px;"><span style="color:#000000;"><span
 style="font-weight:400;"><span style="font-style:normal;"><span
 style="font-family:Calibri,
 sans-serif;"><strike>Activite</strike></span></span></span></span></span></td>			<td
 class="xl67"
 style="width:440px;text-align:center;padding-left:1px;"><span
 style="font-size:16px;"><span style="color:#000000;"><span
 style="font-weight:400;"><span style="font-style:normal;"><span
 style="font-family:Calibri,
 sans-serif;"><strike>RP</strike></span></span></span></span></span></td>		</tr>		<tr>			<td
 class="xl70"
 style="height:20px;text-align:center;padding-left:1px;"><span
 style="font-size:15px;"><span style="color:#000000;"><span
 style="font-weight:400;"><span style="font-style:normal;"><span
 style="font-family:Calibri,
 sans-serif;"><strike>Niveau</strike></span></span></span></span></span></td>			<td
 class="xl69"
 style="width:440px;text-align:center;padding-left:1px;"><span
 style="font-size:16px;"><span style="color:#000000;"><span
 style="font-weight:400;"><span style="font-style:normal;"><span
 style="font-family:Calibri, sans-serif;"><strike>IBP 53 13km
 438m</strike></span></span></span></span></span></td>		</tr>		<tr>			<td
 class="xl70"
 style="height:20px;text-align:center;padding-left:1px;"><span
 style="font-size:15px;"><span style="color:#000000;"><span
 style="font-weight:400;"><span style="font-style:normal;"><span
 style="font-family:Calibri,
 sans-serif;"><strike>Cotation</strike></span></span></span></span></span></td>			<td
 class="xl67"
 style="width:440px;text-align:center;padding-left:1px;"><span
 style="font-size:16px;"><span style="color:#000000;"><span
 style="font-weight:400;"><span style="font-style:normal;"><span
 style="font-family:Calibri, sans-serif;"><strike>E3 T3
 R3 </strike></span></span></span></span></span></td>		</tr>		<tr>			<td
 class="xl70"
 style="height:20px;text-align:center;padding-left:1px;"><span
 style="font-size:15px;"><span style="color:#000000;"><span
 style="font-weight:400;"><span style="font-style:normal;"><span
 style="font-family:Calibri,
 sans-serif;"><strike>Duree</strike></span></span></span></span></span></td>			<td
 class="xl69"
 style="width:440px;text-align:center;padding-left:1px;"><span
 style="font-size:16px;"><span style="color:#000000;"><span
 style="font-weight:400;"><span style="font-style:normal;"><span
 style="font-family:Calibri,
 sans-serif;"><strike>05h00</strike></span></span></span></span></span></td>		</tr>		<tr>			<td
 class="xl70"
 style="height:62px;text-align:center;padding-left:1px;"><span
 style="font-size:15px;"><span style="color:#000000;"><span
 style="font-weight:400;"><span style="font-style:normal;"><span
 style="font-family:Calibri,
 sans-serif;"><strike>Description</strike></span></span></span></span></span></td>			<td
 class="xl68"
 style="width:440px;text-align:left;padding-left:1px;"><span
 style="font-size:16px;"><span style="color:#000000;"><span
 style="font-weight:700;"><span style="font-family:Calibri;"><span
 style="font-style:normal;"><strike>ENTRECASTEAUX SAINT
 ANTONIN<font><span style="font-size:12pt;"><span
 style="color:#000000;"><span style="font-weight:400;"><span
 style="font-style:normal;"><span style="font-family:Calibri;"> : Le
 defens de Valpeironne, Mentone, St Antonin, les terriers, le chateau,
 Entrecasteaux; carte 3444 OT. Nota : Sur inscription 16 pers max. Par
 SMS au
 0620378504.</span></span></span></span></span></font></strike></span></span></span></span></span></td>		</tr>	</tbody></table>
URL;VALUE=URI:https://www.randonneurshyerois.fr/evenements/2026/04/23/rando-pedestre-annulee-a-entrecasteaux-saint-antonin-niveau-e3-animateurs-suzanne-t-babette-m-2419544
END:VEVENT
END:VCALENDAR
