BEGIN:VCALENDAR
VERSION:2.0
PRODID:-//hacksw/handcal//NONSGML v1.0//EN
BEGIN:VEVENT
SUMMARY:Longe-cote Almanarre
UID:3239b50c-9028-4b3e-805a-776f30c0b616
DTSTART:20260422T073000Z
DTEND:20260422T220000Z
LOCATION:Longe-cote Almanarre parking cim. Giens 20 chemin de la plage 83400 Giens
CATEGORIES:Sportif
STATUS:
DESCRIPTION:<p>Bonjour a toutes et a tous,</p>
 
 <p>Nous nous
 retrouverons a l'Almanarre pour notre seance de longe-cote, avec un
 rende-vous sur le parking du cimetiere de Giens a
 9h30.</p>
 
 <p><strong>Previsions meteo :</strong></p>
 
 <p>Vent d'est
 12 nds (Environ 22 km/h), rafales de 18 nds.</p>
 
 <p>Mer belle a peu
 agitee, houle de 0,1 metre</p>
 
 <p>Ciel nuageux 75% </p>
 
 <p>T° air
 : 17°</p>
 
 <p>T° mer : 19°</p>
 
 <p>N'oubliez pas de vous hydrater
 avant, pendant et apres la seance.</p>
 
 <p><strong>Les chaussures
 aquatiques sont obligatoires.</strong></p>
 
 <p>Pour assister a la
 seance, merci de vous inscrire avant mardi 21, 20h. Pour des raisons
 de securite, 1 animateur/trice et 1 assistant.e sont obligatoires
 pour 20 participant.e.s.</p>
URL;VALUE=URI:https://www.randonneurshyerois.fr/evenements/2026/04/22/longe-cote-almanarre-2443280
END:VEVENT
END:VCALENDAR
