BEGIN:VCALENDAR
VERSION:2.0
PRODID:-//hacksw/handcal//NONSGML v1.0//EN
BEGIN:VEVENT
SUMMARY:MN Domaine de Tamary La Londe
UID:cdacf990-b300-478f-ac79-b2031fa4589a
DTSTART:20260420T064500Z
DTEND:20260420T220000Z
LOCATION:Localisation   
CATEGORIES:Sportif
STATUS:
DESCRIPTION:<p>Bonjour a toutes et a tous,</p>
 
 <p>Demain  lundi 20
 avril, nous avons choisi le Domaine de Tamary a La Londe les Maures.
 RDV a l'Espace 3000 <strong>pour partir des 08h15
 (covoiturage)</strong> ou sur site vers 08h45. Nous formerons deux
 groupes, l'un sportif et l'autre tonique pour satisfaire tout le
 monde. Dans l'attente, nous vous souhaitons un bon
 dimanche.</p>
 
 <p>Vos animateurs MN.</p>
URL;VALUE=URI:https://www.randonneurshyerois.fr/evenements/2026/04/20/mn-domaine-de-tamary-la-londe-2442722
END:VEVENT
END:VCALENDAR
