BEGIN:VCALENDAR
VERSION:2.0
PRODID:-//hacksw/handcal//NONSGML v1.0//EN
BEGIN:VEVENT
SUMMARY:rando Sante a RAYOL - niveau E1 - Animateurs : Alain Cur.
UID:88baf5c2-83d3-4719-8446-6f034af4c266
DTSTART:20260406T110000Z
DTEND:20260406T220000Z
LOCATION:Localisation   
CATEGORIES:Sportif
STATUS:
DESCRIPTION:<p><span style="font-size:16px;">Lundi 06/04 a la place
 de la rando prevue a Siou Blanc et deja effectuee le 27/03 pour des
 raisons techniques, je vous propose d’aller admirer les superbes
 vues sur les cretes du Rayol Canadel au depart du col du
 Canadel<br>
 IBP 25,E1T1R1, 5km, 100m de denivele positif<br>
 Depart
 13h de l’espace 3000 sur inscription par sms<br>
 Pensez a me
 signaler si vous etes susceptibles de prendre votre
 voiture<br>
 Amicalement</span><br>
 <span
 style="font-size:22px;">Alain Cur</span></p>
 
 <table border="1"
 style="width:400px;" width="514">
 	<colgroup>
 		<col
 style="width:55pt;" width="74">
 		<col style="width:330pt;"
 width="440">
 	</colgroup>
 	<tbody>
 		<tr>
 			<td class="xl70"
 style="height:20px;width:74px;text-align:center;padding-left:1px;"><s><span
 style="font-size:15px;"><span style="color:#000000;"><span
 style="font-weight:400;"><span style="font-style:normal;"><span
 style="text-decoration:none;"><span style="font-family:Calibri,
 sans-serif;">Depart</span></span></span></span></span></span></s></td>
 			<td
 class="xl68"
 style="width:440px;text-align:center;padding-left:1px;"><s><span
 style="font-size:16px;"><span style="color:#000000;"><span
 style="font-weight:400;"><span style="font-style:normal;"><span
 style="text-decoration:none;"><span style="font-family:Calibri,
 sans-serif;">13h00</span></span></span></span></span></span></s></td>
 		</tr>
 		<tr>
 			<td
 class="xl70"
 style="height:20px;text-align:center;padding-left:1px;"><s><span
 style="font-size:15px;"><span style="color:#000000;"><span
 style="font-weight:400;"><span style="font-style:normal;"><span
 style="text-decoration:none;"><span style="font-family:Calibri,
 sans-serif;">Voiture
 AR</span></span></span></span></span></span></s></td>
 			<td
 class="xl68" style="text-align:center;padding-left:1px;"><s><span
 style="font-size:16px;"><span style="color:#000000;"><span
 style="font-weight:400;"><span style="font-style:normal;"><span
 style="text-decoration:none;"><span style="font-family:Calibri,
 sans-serif;">60
 km</span></span></span></span></span></span></s></td>
 		</tr>
 		<tr>
 			<td
 class="xl70"
 style="height:20px;text-align:center;padding-left:1px;"><s><span
 style="font-size:15px;"><span style="color:#000000;"><span
 style="font-weight:400;"><span style="font-style:normal;"><span
 style="text-decoration:none;"><span style="font-family:Calibri,
 sans-serif;">Activite</span></span></span></span></span></span></s></td>
 			<td
 class="xl68" style="text-align:center;padding-left:1px;"><s><span
 style="font-size:16px;"><span style="color:#000000;"><span
 style="font-weight:400;"><span style="font-style:normal;"><span
 style="text-decoration:none;"><span style="font-family:Calibri,
 sans-serif;">RS        </span></span></span></span></span></span></s></td>
 		</tr>
 		<tr>
 			<td
 class="xl70"
 style="height:20px;text-align:center;padding-left:1px;"><s><span
 style="font-size:15px;"><span style="color:#000000;"><span
 style="font-weight:400;"><span style="font-style:normal;"><span
 style="text-decoration:none;"><span style="font-family:Calibri,
 sans-serif;">Niveau</span></span></span></span></span></span></s></td>
 			<td
 class="xl67"
 style="width:440px;text-align:center;padding-left:1px;"><s><span
 style="font-size:16px;"><span style="color:#000000;"><span
 style="font-weight:400;"><span style="font-style:normal;"><span
 style="text-decoration:none;"><span style="font-family:Calibri,
 sans-serif;">IBP 25          07 km      80
 m</span></span></span></span></span></span></s></td>
 		</tr>
 		<tr>
 			<td
 class="xl70"
 style="height:20px;text-align:center;padding-left:1px;"><s><span
 style="font-size:15px;"><span style="color:#000000;"><span
 style="font-weight:400;"><span style="font-style:normal;"><span
 style="text-decoration:none;"><span style="font-family:Calibri,
 sans-serif;">Cotation</span></span></span></span></span></span></s></td>
 			<td
 class="xl67"
 style="width:440px;text-align:center;padding-left:1px;"><s><span
 style="font-size:16px;"><span style="color:#000000;"><span
 style="font-weight:400;"><span style="font-style:normal;"><span
 style="text-decoration:none;"><span style="font-family:Calibri,
 sans-serif;">E1 T1
 R1</span></span></span></span></span></span></s></td>
 		</tr>
 		<tr>
 			<td
 class="xl70"
 style="height:20px;text-align:center;padding-left:1px;"><s><span
 style="font-size:15px;"><span style="color:#000000;"><span
 style="font-weight:400;"><span style="font-style:normal;"><span
 style="text-decoration:none;"><span style="font-family:Calibri,
 sans-serif;">Duree</span></span></span></span></span></span></s></td>
 			<td
 class="xl68" style="text-align:center;padding-left:1px;"><s><span
 style="font-size:16px;"><span style="color:#000000;"><span
 style="font-weight:400;"><span style="font-style:normal;"><span
 style="text-decoration:none;"><span style="font-family:Calibri,
 sans-serif;">03h00</span></span></span></span></span></span></s></td>
 		</tr>
 		<tr>
 			<td
 class="xl70"
 style="height:62px;text-align:center;padding-left:1px;"><s><span
 style="font-size:15px;"><span style="color:#000000;"><span
 style="font-weight:400;"><span style="font-style:normal;"><span
 style="text-decoration:none;"><span style="font-family:Calibri,
 sans-serif;">Description</span></span></span></span></span></span></s></td>
 			<td
 class="xl69"
 style="width:440px;text-align:left;padding-left:1px;"><s><span
 style="font-size:16px;"><span style="font-weight:700;"><span
 style="font-style:normal;"><span style="text-decoration:none;"><span
 style="font-family:Calibri, sans-serif;"><font><span
 style="font-size:12pt;"><span style="font-weight:700;"><span
 style="font-style:normal;"><span style="text-decoration:none;"><span
 style="font-family:Calibri, sans-serif;">Sollies Toucas:
 </span></span></span></span></span></font><font><span
 style="font-size:12pt;"><span style="font-weight:400;"><span
 style="font-style:normal;"><span style="text-decoration:none;"><span
 style="font-family:Calibri, sans-serif;">au depart de Siou Blanc en
 direction de l’impluvium d’Orves. IGN 3345OT et
 3346OT                              
 sur inscription aupres de l’animateur jusqu’au dimanche 5 au
 soir</span></span></span></span></span></font></span></span></span></span></span></s></td>
 		</tr>
 	</tbody>
 </table>
URL;VALUE=URI:https://www.randonneurshyerois.fr/evenements/2026/04/06/rando-sante-a-rayol-niveau-e1-animateurs-alain-cur-2419494
END:VEVENT
END:VCALENDAR
