BEGIN:VCALENDAR
VERSION:2.0
PRODID:-//hacksw/handcal//NONSGML v1.0//EN
BEGIN:VEVENT
SUMMARY:rando pedestre a MEOUNES - niveau E2 - Animateurs : Jean Francois LT.
UID:8daf141c-15f6-4aec-ac10-85ac8e395dbd
DTSTART:20260405T070000Z
DTEND:20260405T220000Z
LOCATION:Localisation   
CATEGORIES:Sportif
STATUS:
DESCRIPTION:<table border="1" style="width:400px;"
 width="514">
 	<colgroup>
 		<col style="width:55pt;"
 width="74">
 		<col style="width:330pt;"
 width="440">
 	</colgroup>
 	<tbody>
 		<tr>
 			<td class="xl71"
 style="height:20px;width:74px;text-align:center;padding-left:1px;"><span
 style="font-size:15px;"><span style="color:#000000;"><span
 style="font-weight:400;"><span style="font-style:normal;"><span
 style="font-family:Calibri,
 sans-serif;">Depart</span></span></span></span></span></td>
 			<td
 class="xl68"
 style="width:440px;text-align:center;padding-left:1px;">09h00</td>
 		</tr>
 		<tr>
 			<td
 class="xl71"
 style="height:20px;text-align:center;padding-left:1px;"><span
 style="font-size:15px;"><span style="color:#000000;"><span
 style="font-weight:400;"><span style="font-style:normal;"><span
 style="font-family:Calibri, sans-serif;">Voiture
 AR</span></span></span></span></span></td>
 			<td class="xl68"
 style="text-align:center;padding-left:1px;"><span
 style="font-size:16px;"><span style="color:#000000;"><span
 style="font-weight:400;"><span style="font-style:normal;"><span
 style="font-family:Calibri, sans-serif;">62
 km</span></span></span></span></span></td>
 		</tr>
 		<tr>
 			<td
 class="xl71"
 style="height:20px;text-align:center;padding-left:1px;"><span
 style="font-size:15px;"><span style="color:#000000;"><span
 style="font-weight:400;"><span style="font-style:normal;"><span
 style="font-family:Calibri,
 sans-serif;">Activite</span></span></span></span></span></td>
 			<td
 class="xl67"
 style="width:440px;text-align:center;padding-left:1px;"><span
 style="font-size:16px;"><span style="color:#000000;"><span
 style="font-weight:400;"><span style="font-style:normal;"><span
 style="font-family:Calibri,
 sans-serif;">RP</span></span></span></span></span></td>
 		</tr>
 		<tr>
 			<td
 class="xl71"
 style="height:20px;text-align:center;padding-left:1px;"><span
 style="font-size:15px;"><span style="color:#000000;"><span
 style="font-weight:400;"><span style="font-style:normal;"><span
 style="font-family:Calibri,
 sans-serif;">Niveau</span></span></span></span></span></td>
 			<td
 class="xl70"
 style="width:440px;text-align:center;padding-left:1px;"><span
 style="font-size:16px;"><span style="color:#000000;"><span
 style="font-weight:400;"><span style="font-style:normal;"><span
 style="font-family:Calibri, sans-serif;">IBP 34  12 km
 300 m</span></span></span></span></span></td>
 		</tr>
 		<tr>
 			<td
 class="xl71"
 style="height:20px;text-align:center;padding-left:1px;"><span
 style="font-size:15px;"><span style="color:#000000;"><span
 style="font-weight:400;"><span style="font-style:normal;"><span
 style="font-family:Calibri,
 sans-serif;">Cotation</span></span></span></span></span></td>
 			<td
 class="xl67"
 style="width:440px;text-align:center;padding-left:1px;"><span
 style="font-size:16px;"><span style="color:#000000;"><span
 style="font-weight:400;"><span style="font-style:normal;"><span
 style="font-family:Calibri, sans-serif;">E2 T2
 R2</span></span></span></span></span></td>
 		</tr>
 		<tr>
 			<td
 class="xl71"
 style="height:20px;text-align:center;padding-left:1px;"><span
 style="font-size:15px;"><span style="color:#000000;"><span
 style="font-weight:400;"><span style="font-style:normal;"><span
 style="font-family:Calibri,
 sans-serif;">Duree</span></span></span></span></span></td>
 			<td
 class="xl67"
 style="width:440px;text-align:center;padding-left:1px;"><span
 style="font-size:16px;"><span style="color:#000000;"><span
 style="font-weight:400;"><span style="font-style:normal;"><span
 style="font-family:Calibri,
 sans-serif;">04h30</span></span></span></span></span></td>
 		</tr>
 		<tr>
 			<td
 class="xl71"
 style="height:21px;text-align:center;padding-left:1px;"><span
 style="font-size:15px;"><span style="color:#000000;"><span
 style="font-weight:400;"><span style="font-style:normal;"><span
 style="font-family:Calibri,
 sans-serif;">Description</span></span></span></span></span></td>
 			<td
 class="xl69"
 style="width:440px;text-align:left;padding-left:1px;">
 			<p><span
 style="font-size:16px;"><span style="color:#000000;"><span
 style="font-weight:700;"><span style="font-style:normal;"><span
 style="font-family:Calibri, sans-serif;"><font><span
 style="font-size:12pt;"><span style="color:rgb(0,0,0);"><span
 style="font-weight:400;"><span style="font-style:normal;"><span
 style="font-family:Calibri, sans-serif;">Dimanche  05 avril, je vous
 propose une randonnee a Meounes en lieu et place de la randonnee
 initialement prevue a
 Vidauban.</span></span></span></span></span></font></span></span></span></span></span></p>
 
 			<p><span
 style="font-size:16px;"><span style="color:#000000;"><span
 style="font-weight:700;"><span style="font-style:normal;"><span
 style="font-family:Calibri, sans-serif;"><font><span
 style="font-size:12pt;"><span style="color:rgb(0,0,0);"><span
 style="font-weight:400;"><span style="font-style:normal;"><span
 style="font-family:Calibri, sans-serif;">Cette randonnee de 12 km et
 300 m de deniveles - IBP 39 - nous conduira au lac (petit) de
 l'Evoue, puis aux aiguilles de Valbelle. Le retour se fera en
 longeant le Gapeau. Les caracteristiques completes de cette randonnee
 sont dans le programme a la date du 19
 avril.</span></span></span></span></span></font></span></span></span></span></span></p>
 
 			<p><span
 style="font-size:16px;"><span style="color:#000000;"><span
 style="font-weight:700;"><span style="font-style:normal;"><span
 style="font-family:Calibri, sans-serif;"><font><span
 style="font-size:12pt;"><span style="color:rgb(0,0,0);"><span
 style="font-weight:400;"><span style="font-style:normal;"><span
 style="font-family:Calibri, sans-serif;">Le depart se fera de
 l'espace 3000 a
 09h00.</span></span></span></span></span></font></span></span></span></span></span></p>
 			</td>
 		</tr>
 	</tbody>
 </table>
URL;VALUE=URI:https://www.randonneurshyerois.fr/evenements/2026/04/05/rando-pedestre-a-meounes-niveau-e2-animateurs-jean-francois-lt-2419492
END:VEVENT
END:VCALENDAR
