BEGIN:VCALENDAR
VERSION:2.0
PRODID:-//hacksw/handcal//NONSGML v1.0//EN
BEGIN:VEVENT
SUMMARY:rando pedestre ANNULEE a Le Lavandou- niveau E2- Animateurs : Pierre P.
UID:407c905d-9a96-4795-b011-0f97e37f1d75
DTSTART:20260331T070000Z
DTEND:20260331T220000Z
LOCATION:Localisation   
CATEGORIES:Sportif
STATUS:
DESCRIPTION:<table border="1" style="width:400px;"
 width="514">	<colgroup>		<col style="width:55pt;" width="74">		<col
 style="width:330pt;" width="440">	</colgroup>	<tbody>		<tr>			<td
 class="xl70"
 style="height:20px;width:74px;text-align:center;padding-left:1px;"><span
 style="font-size:15px;"><span style="color:#000000;"><span
 style="font-weight:400;"><span style="font-style:normal;"><span
 style="font-family:Calibri,
 sans-serif;"><strike>Depart</strike></span></span></span></span></span></td>			<td
 class="xl68"
 style="width:440px;text-align:center;padding-left:1px;"><span
 style="font-size:16px;"><span style="color:#000000;"><span
 style="font-weight:400;"><span style="font-style:normal;"><span
 style="font-family:Calibri,
 sans-serif;"><strike>09h00</strike></span></span></span></span></span></td>		</tr>		<tr>			<td
 class="xl70"
 style="height:20px;text-align:center;padding-left:1px;"><span
 style="font-size:15px;"><span style="color:#000000;"><span
 style="font-weight:400;"><span style="font-style:normal;"><span
 style="font-family:Calibri, sans-serif;"><strike>Voiture
 AR</strike></span></span></span></span></span></td>			<td
 class="xl68" style="text-align:center;padding-left:1px;"><span
 style="font-size:16px;"><span style="color:#000000;"><span
 style="font-weight:400;"><span style="font-style:normal;"><span
 style="font-family:Calibri,
 sans-serif;"><strike>44km</strike></span></span></span></span></span></td>		</tr>		<tr>			<td
 class="xl70"
 style="height:20px;text-align:center;padding-left:1px;"><span
 style="font-size:15px;"><span style="color:#000000;"><span
 style="font-weight:400;"><span style="font-style:normal;"><span
 style="font-family:Calibri,
 sans-serif;"><strike>Activite</strike></span></span></span></span></span></td>			<td
 class="xl68" style="text-align:center;padding-left:1px;"><span
 style="font-size:16px;"><span style="color:#000000;"><span
 style="font-weight:400;"><span style="font-style:normal;"><span
 style="font-family:Calibri,
 sans-serif;"><strike>RP</strike></span></span></span></span></span></td>		</tr>		<tr>			<td
 class="xl70"
 style="height:20px;text-align:center;padding-left:1px;"><span
 style="font-size:15px;"><span style="color:#000000;"><span
 style="font-weight:400;"><span style="font-style:normal;"><span
 style="font-family:Calibri,
 sans-serif;"><strike>Niveau</strike></span></span></span></span></span></td>			<td
 class="xl67"
 style="width:440px;text-align:center;padding-left:1px;"><span
 style="font-size:16px;"><span style="color:#000000;"><span
 style="font-weight:400;"><span style="font-style:normal;"><span
 style="font-family:Calibri, sans-serif;"><strike>IBP 30  12 km  300
 m</strike></span></span></span></span></span></td>		</tr>		<tr>			<td
 class="xl70"
 style="height:20px;text-align:center;padding-left:1px;"><span
 style="font-size:15px;"><span style="color:#000000;"><span
 style="font-weight:400;"><span style="font-style:normal;"><span
 style="font-family:Calibri,
 sans-serif;"><strike>Cotation</strike></span></span></span></span></span></td>			<td
 class="xl67"
 style="width:440px;text-align:center;padding-left:1px;"><span
 style="font-size:16px;"><span style="color:#000000;"><span
 style="font-weight:400;"><span style="font-style:normal;"><span
 style="font-family:Calibri, sans-serif;"><strike>E2 T2
 R2</strike></span></span></span></span></span></td>		</tr>		<tr>			<td
 class="xl70"
 style="height:20px;text-align:center;padding-left:1px;"><span
 style="font-size:15px;"><span style="color:#000000;"><span
 style="font-weight:400;"><span style="font-style:normal;"><span
 style="font-family:Calibri,
 sans-serif;"><strike>Duree</strike></span></span></span></span></span></td>			<td
 class="xl68" style="text-align:center;padding-left:1px;"><span
 style="font-size:16px;"><span style="color:#000000;"><span
 style="font-weight:400;"><span style="font-style:normal;"><span
 style="font-family:Calibri,
 sans-serif;"><strike>04h00</strike></span></span></span></span></span></td>		</tr>		<tr>			<td
 class="xl70"
 style="height:62px;text-align:center;padding-left:1px;"><span
 style="font-size:15px;"><span style="color:#000000;"><span
 style="font-weight:400;"><span style="font-style:normal;"><span
 style="font-family:Calibri,
 sans-serif;"><strike>Description</strike></span></span></span></span></span></td>			<td
 class="xl69"
 style="width:440px;text-align:left;padding-left:1px;"><span
 style="font-size:16px;"><span style="color:#000000;"><span
 style="font-weight:700;"><span style="font-style:normal;"><span
 style="font-family:Calibri, sans-serif;"><strike><font><span
 style="font-size:12pt;"><span style="color:#000000;"><span
 style="font-weight:700;"><span style="font-style:normal;"><span
 style="font-family:Calibri, sans-serif;">Le Lavandou :
 </span></span></span></span></span></font><font><span
 style="font-size:12pt;"><span style="color:#000000;"><span
 style="font-weight:400;"><span style="font-style:normal;"><span
 style="font-family:Calibri, sans-serif;">Port du Lavandou, plage Qst
 Clair, Calanque du Four de Maures, plage de la Fossette. Attention
 Sentier du littoral escarpe, risque de vertige. Carte
 3445OT</span></span></span></span></span></font></strike></span></span></span></span></span></td>		</tr>	</tbody></table>
URL;VALUE=URI:https://www.randonneurshyerois.fr/evenements/2026/03/31/rando-pedestre-annulee-a-le-lavandou-niveau-e2-animateurs-pierre-p-2419481
END:VEVENT
END:VCALENDAR
